BEGIN:VCALENDAR
VERSION:2.0
PRODID:-//jEvents 2.0 for Joomla//EN
CALSCALE:GREGORIAN
METHOD:PUBLISH
BEGIN:VTIMEZONE
TZID:Europe/Vienna
END:VTIMEZONE
BEGIN:VEVENT
UID:99923ac0a4c0dd94ad310e02ed631160
CATEGORIES:DEFAULT
SUMMARY:1.Klasse B:  KJSV Wien - Mödling
DESCRIPTION;ENCODING=QUOTED-PRINTABLE:\n\nTech Gate, Donau-City-Straße 1, 1220 Wien\n (Spiellokal im EG gleich um
  die Ecke beim Portier)\n
DTSTAMP:20260419T171434Z
DTSTART;TZID=Europe/Vienna:20241109T150000
DTEND;TZID=Europe/Vienna:20241109T210000
SEQUENCE:0
TRANSP:OPAQUE
END:VEVENT
END:VCALENDAR