BEGIN:VCALENDAR
VERSION:2.0
PRODID:-//jEvents 2.0 for Joomla//EN
CALSCALE:GREGORIAN
METHOD:PUBLISH
BEGIN:VTIMEZONE
TZID:Europe/Vienna
END:VTIMEZONE
BEGIN:VEVENT
UID:29711364d3816e571e40f4efe48ba654
CATEGORIES:DEFAULT
SUMMARY:A Liga Hietzing - Mödling
DESCRIPTION;ENCODING=QUOTED-PRINTABLE:\n\nWSV - Haus des Schachsports, 1020 Wien, Spielmannplatz 1\n
DTSTAMP:20260419T170426Z
DTSTART;TZID=Europe/Vienna:20241109T150000
DTEND;TZID=Europe/Vienna:20241109T210000
SEQUENCE:0
TRANSP:OPAQUE
END:VEVENT
END:VCALENDAR