BEGIN:VCALENDAR
VERSION:2.0
PRODID:-//jEvents 2.0 for Joomla//EN
CALSCALE:GREGORIAN
METHOD:PUBLISH
BEGIN:VTIMEZONE
TZID:Europe/Vienna
END:VTIMEZONE
BEGIN:VEVENT
UID:8ea347b09bd10275ffebeeed6865c786
CATEGORIES:DEFAULT
SUMMARY:A Liga: Hernals - Mödling
DESCRIPTION;ENCODING=QUOTED-PRINTABLE:<p>Cafe Kreuzberg, 1070 Wien, Neustiftgasse 103</p>
DTSTAMP:20260419T171720Z
DTSTART;TZID=Europe/Vienna:20241026T150000
DTEND;TZID=Europe/Vienna:20241026T210000
SEQUENCE:0
TRANSP:OPAQUE
END:VEVENT
END:VCALENDAR