BEGIN:VCALENDAR
VERSION:2.0
PRODID:-//jEvents 2.0 for Joomla//EN
CALSCALE:GREGORIAN
METHOD:PUBLISH
BEGIN:VTIMEZONE
TZID:Europe/Vienna
END:VTIMEZONE
BEGIN:VEVENT
UID:30462b463ae4c4407a78a614119f8717
CATEGORIES:DEFAULT
SUMMARY:B Liga: Mödling - Schmelz/Klosterneuburg
DESCRIPTION;ENCODING=QUOTED-PRINTABLE:<p>Heimspiel im Bg Mödling, Untere Bachgasse 8</p>
DTSTAMP:20260419T171757Z
DTSTART;TZID=Europe/Vienna:20241019T150000
DTEND;TZID=Europe/Vienna:20241019T210000
SEQUENCE:0
TRANSP:OPAQUE
END:VEVENT
END:VCALENDAR