BEGIN:VCALENDAR
VERSION:2.0
PRODID:-//jEvents 2.0 for Joomla//EN
CALSCALE:GREGORIAN
METHOD:PUBLISH
BEGIN:VTIMEZONE
TZID:Europe/Vienna
END:VTIMEZONE
BEGIN:VEVENT
UID:ae38d5210b275b46e4d8f4e4d920ef8e
CATEGORIES:DEFAULT
SUMMARY:1.Klasse : Mödling - DAW
DESCRIPTION;ENCODING=QUOTED-PRINTABLE:<p>Heimspiel im Bg Mödling, Untere Bachgasse 8</p>
DTSTAMP:20260419T170545Z
DTSTART;TZID=Europe/Vienna:20241012T150000
DTEND;TZID=Europe/Vienna:20241012T210000
SEQUENCE:0
TRANSP:OPAQUE
END:VEVENT
END:VCALENDAR