BEGIN:VCALENDAR
VERSION:2.0
PRODID:-//jEvents 2.0 for Joomla//EN
CALSCALE:GREGORIAN
METHOD:PUBLISH
BEGIN:VTIMEZONE
TZID:Europe/Vienna
END:VTIMEZONE
BEGIN:VEVENT
UID:79e8c0e2b0d0ec041ebcc94b0a449e76
CATEGORIES:DEFAULT
SUMMARY:A Liga Mödling - DAW
DESCRIPTION;ENCODING=QUOTED-PRINTABLE:<p>Heimspiel im Bg Mödling, Untere Bachgasse 8</p>
DTSTAMP:20260419T170550Z
DTSTART;TZID=Europe/Vienna:20241012T150000
DTEND;TZID=Europe/Vienna:20241012T210000
SEQUENCE:0
TRANSP:OPAQUE
END:VEVENT
END:VCALENDAR