BEGIN:VCALENDAR
VERSION:2.0
PRODID:-//jEvents 2.0 for Joomla//EN
CALSCALE:GREGORIAN
METHOD:PUBLISH
BEGIN:VTIMEZONE
TZID:Europe/Vienna
END:VTIMEZONE
BEGIN:VEVENT
UID:53a544e80920bb18e02076514ef7fda0
CATEGORIES:DEFAULT
SUMMARY:B Liga: Hernals - Mödling
DESCRIPTION;ENCODING=QUOTED-PRINTABLE:\n\nCafe Kreuzberg\n\n\n1070 Wien, Neustiftgasse 103\n
DTSTAMP:20260419T171434Z
DTSTART;TZID=Europe/Vienna:20241005T150000
DTEND;TZID=Europe/Vienna:20241005T210000
SEQUENCE:0
TRANSP:OPAQUE
END:VEVENT
END:VCALENDAR