BEGIN:VCALENDAR
VERSION:2.0
PRODID:-//jEvents 2.0 for Joomla//EN
CALSCALE:GREGORIAN
METHOD:PUBLISH
BEGIN:VTIMEZONE
TZID:Europe/Vienna
END:VTIMEZONE
BEGIN:VEVENT
UID:20a92584de551df8d3a45d1c9f19dde0
CATEGORIES:DEFAULT
SUMMARY:A Liga Mödling - Favoriten
DESCRIPTION;ENCODING=QUOTED-PRINTABLE:<p><strong>Heimspiel im BG Mödling, Untere Bachgasse 8</strong></p>
DTSTAMP:20260419T171905Z
DTSTART;TZID=Europe/Vienna:20240928T150000
DTEND;TZID=Europe/Vienna:20240928T210000
SEQUENCE:0
TRANSP:OPAQUE
END:VEVENT
END:VCALENDAR