BEGIN:VCALENDAR
VERSION:2.0
PRODID:-//jEvents 2.0 for Joomla//EN
CALSCALE:GREGORIAN
METHOD:PUBLISH
BEGIN:VTIMEZONE
TZID:Europe/Vienna
END:VTIMEZONE
BEGIN:VEVENT
UID:8dc384c37c7c8c96364054c059a817b7
CATEGORIES:DEFAULT
SUMMARY:11. Mödlinger Aktivschachturnier für Kinder bis 12 Jahre
DESCRIPTION;ENCODING=QUOTED-PRINTABLE:<p><strong>11. Mödlinger Aktivschachturnier für Kinder bis 12 Jahre</strong
 > (bis inkl Jahrgang 2012)</p><p>im BG Mödling Bachgasse,</p><p>5 Runden a 
 15 min Bedenkzeit</p><p>Ausschreibung mit Details:  <a href="https://chess-
 results.com/Download/Kalender/2024_09_01_MoeKinderturnier2024.pdf">MoeKinde
 rturnier2019a (chess-results.com)</a></p>
DTSTAMP:20260419T172002Z
DTSTART;TZID=Europe/Vienna:20240901T140000
DTEND;TZID=Europe/Vienna:20240901T170000
SEQUENCE:0
TRANSP:OPAQUE
END:VEVENT
END:VCALENDAR