BEGIN:VCALENDAR
VERSION:2.0
PRODID:-//jEvents 2.0 for Joomla//EN
CALSCALE:GREGORIAN
METHOD:PUBLISH
BEGIN:VTIMEZONE
TZID:Europe/Vienna
END:VTIMEZONE
BEGIN:VEVENT
UID:0e154d42bd18774413e09975db2804af
CATEGORIES:DEFAULT
SUMMARY:Mödlinger Ferienspiel - Schach
DESCRIPTION;ENCODING=QUOTED-PRINTABLE:\n\nFerienspielbüro: Sportvolksschule Lerchengasse 35, \nEingang über die J
 akob-Thoma-Straße\n
DTSTAMP:20260419T171439Z
DTSTART;TZID=Europe/Vienna:20240819T133000
DTEND;TZID=Europe/Vienna:20240819T150000
SEQUENCE:0
TRANSP:OPAQUE
END:VEVENT
END:VCALENDAR