BEGIN:VCALENDAR
VERSION:2.0
PRODID:-//jEvents 2.0 for Joomla//EN
CALSCALE:GREGORIAN
METHOD:PUBLISH
BEGIN:VTIMEZONE
TZID:Europe/Vienna
END:VTIMEZONE
BEGIN:VEVENT
UID:be9a2dbad6bee7c050219a63533ebaa8
CATEGORIES:DEFAULT
SUMMARY:Mödlinger Ferienspiel - Schach
DESCRIPTION;ENCODING=QUOTED-PRINTABLE:\n\nFerienspielbüro: Sportvolksschule Lerchengasse 35, \nEingang über die J
 akob-Thoma-Straße\n\n\nHome - Mödlinger Ferienspiel 2024 (moedlingerferiens
 piel.at)\n
DTSTAMP:20260419T171439Z
DTSTART;TZID=Europe/Vienna:20240704T130000
DTEND;TZID=Europe/Vienna:20240704T143000
SEQUENCE:0
TRANSP:OPAQUE
END:VEVENT
END:VCALENDAR