BEGIN:VCALENDAR
VERSION:2.0
PRODID:-//jEvents 2.0 for Joomla//EN
CALSCALE:GREGORIAN
METHOD:PUBLISH
BEGIN:VTIMEZONE
TZID:Europe/Vienna
END:VTIMEZONE
BEGIN:VEVENT
UID:b1d7e6b184110328c3e838534c1c6c87
CATEGORIES:DEFAULT
SUMMARY:1.Klasse Süd: Austria - Mödling
DESCRIPTION;ENCODING=QUOTED-PRINTABLE:<p>auswärts im Haus des Schachsports</p><p>1020 Wien, Spielmannplatz 1</p>
DTSTAMP:20260419T171757Z
DTSTART;TZID=Europe/Vienna:20240413T150000
DTEND;TZID=Europe/Vienna:20240413T210000
SEQUENCE:0
TRANSP:OPAQUE
END:VEVENT
END:VCALENDAR