BEGIN:VCALENDAR
VERSION:2.0
PRODID:-//jEvents 2.0 for Joomla//EN
CALSCALE:GREGORIAN
METHOD:PUBLISH
BEGIN:VTIMEZONE
TZID:Europe/Vienna
END:VTIMEZONE
BEGIN:VEVENT
UID:5c05fa51d338af768029ba422b6a07a8
CATEGORIES:DEFAULT
SUMMARY:B Liga: Mödling - Polyglott
DESCRIPTION;ENCODING=QUOTED-PRINTABLE:<p>Heimspiel im BG Bachgasse</p>
DTSTAMP:20260419T170554Z
DTSTART;TZID=Europe/Vienna:20240406T150000
DTEND;TZID=Europe/Vienna:20240406T210000
SEQUENCE:0
TRANSP:OPAQUE
END:VEVENT
END:VCALENDAR