BEGIN:VCALENDAR
VERSION:2.0
PRODID:-//jEvents 2.0 for Joomla//EN
CALSCALE:GREGORIAN
METHOD:PUBLISH
BEGIN:VTIMEZONE
TZID:Europe/Vienna
END:VTIMEZONE
BEGIN:VEVENT
UID:c173daa8f8efe510f78b5e590f837e18
CATEGORIES:DEFAULT
SUMMARY:1.Klasse Süd: Mödling - DAW
DESCRIPTION;ENCODING=QUOTED-PRINTABLE:\n\nHeimspiel im BG Mödling Bachgasse\n
DTSTAMP:20260419T171559Z
DTSTART;TZID=Europe/Vienna:20240323T150000
DTEND;TZID=Europe/Vienna:20240323T210000
SEQUENCE:0
TRANSP:OPAQUE
END:VEVENT
END:VCALENDAR