BEGIN:VCALENDAR
VERSION:2.0
PRODID:-//jEvents 2.0 for Joomla//EN
CALSCALE:GREGORIAN
METHOD:PUBLISH
BEGIN:VTIMEZONE
TZID:Europe/Vienna
END:VTIMEZONE
BEGIN:VEVENT
UID:52cec783c4e14957d5872a06dbcb3522
CATEGORIES:DEFAULT
SUMMARY:B Liga: Donaustadt - Mödling
DESCRIPTION;ENCODING=QUOTED-PRINTABLE:<p>auswärts</p><p>1220 Wien, TV Kagran, Anton Sattler Gasse 92-96</p>
DTSTAMP:20260419T170544Z
DTSTART;TZID=Europe/Vienna:20240316T150000
DTEND;TZID=Europe/Vienna:20240316T210000
SEQUENCE:0
TRANSP:OPAQUE
END:VEVENT
END:VCALENDAR