BEGIN:VCALENDAR
VERSION:2.0
PRODID:-//jEvents 2.0 for Joomla//EN
CALSCALE:GREGORIAN
METHOD:PUBLISH
BEGIN:VTIMEZONE
TZID:Europe/Vienna
END:VTIMEZONE
BEGIN:VEVENT
UID:be2e0394c8cc372dd2f01db212cd91a4
CATEGORIES:DEFAULT
SUMMARY:1 Klasse: Schmelz - Mödling
DESCRIPTION;ENCODING=QUOTED-PRINTABLE:<p>auswärts in </p><p>1150 Wien, Oeverseestrasse 1 (SPÖ LOkal)</p>
DTSTAMP:20260419T170554Z
DTSTART;TZID=Europe/Vienna:20240309T150000
DTEND;TZID=Europe/Vienna:20240309T210000
SEQUENCE:0
TRANSP:OPAQUE
END:VEVENT
END:VCALENDAR