BEGIN:VCALENDAR
VERSION:2.0
PRODID:-//jEvents 2.0 for Joomla//EN
CALSCALE:GREGORIAN
METHOD:PUBLISH
BEGIN:VTIMEZONE
TZID:Europe/Vienna
END:VTIMEZONE
BEGIN:VEVENT
UID:d319b9a2c5a5046d199a3ecb55888199
CATEGORIES:DEFAULT
SUMMARY:B Liga: Mödling - Hietzing
DESCRIPTION;ENCODING=QUOTED-PRINTABLE:<p>Heimspiel im BG Bachgasse,</p><p>Untere Bachgasse 8, 2340 Mödling</p>
DTSTAMP:20260419T170546Z
DTSTART;TZID=Europe/Vienna:20240302T150000
DTEND;TZID=Europe/Vienna:20240302T210000
SEQUENCE:0
TRANSP:OPAQUE
END:VEVENT
END:VCALENDAR