BEGIN:VCALENDAR
VERSION:2.0
PRODID:-//jEvents 2.0 for Joomla//EN
CALSCALE:GREGORIAN
METHOD:PUBLISH
BEGIN:VTIMEZONE
TZID:Europe/Vienna
END:VTIMEZONE
BEGIN:VEVENT
UID:6688f25e59e37701f6b409351fbd7634
CATEGORIES:DEFAULT
SUMMARY:A Liga Mödling - Donaustadt
DESCRIPTION;ENCODING=QUOTED-PRINTABLE:\n\nHeimspiel im BG Mödling Untere Bachgasse 8\n
DTSTAMP:20260419T170456Z
DTSTART;TZID=Europe/Vienna:20240203T150000
DTEND;TZID=Europe/Vienna:20240203T210000
SEQUENCE:0
TRANSP:OPAQUE
END:VEVENT
END:VCALENDAR