BEGIN:VCALENDAR
VERSION:2.0
PRODID:-//jEvents 2.0 for Joomla//EN
CALSCALE:GREGORIAN
METHOD:PUBLISH
BEGIN:VTIMEZONE
TZID:Europe/Vienna
END:VTIMEZONE
BEGIN:VEVENT
UID:672cb850875716b38b4f9a9dfa92f307
CATEGORIES:DEFAULT
SUMMARY:1.Klasse: tschaturanga - Mödling
DESCRIPTION;ENCODING=QUOTED-PRINTABLE:\n\nauswärts im Haus des Schachsports, 1020 Wien Spielmannplatz 1\n
DTSTAMP:20260419T170412Z
DTSTART;TZID=Europe/Vienna:20240127T150000
DTEND;TZID=Europe/Vienna:20240127T210000
SEQUENCE:0
TRANSP:OPAQUE
END:VEVENT
END:VCALENDAR