BEGIN:VCALENDAR
VERSION:2.0
PRODID:-//jEvents 2.0 for Joomla//EN
CALSCALE:GREGORIAN
METHOD:PUBLISH
BEGIN:VTIMEZONE
TZID:Europe/Vienna
END:VTIMEZONE
BEGIN:VEVENT
UID:b042603220db8b51ccc65d77c346e060
CATEGORIES:DEFAULT
SUMMARY:A Liga: tschaturanga - Mödling
DESCRIPTION;ENCODING=QUOTED-PRINTABLE:<p><span style="font-family: 'Helvetica Neue', Helvetica, Arial, sans-serif
 ; font-size: 13px; background-color: #f7f7f7;">auswärts im Haus des Schachs
 ports, 1020 Wien Spielmannplatz 1</span></p>
DTSTAMP:20260419T173231Z
DTSTART;TZID=Europe/Vienna:20240127T150000
DTEND;TZID=Europe/Vienna:20240127T210000
SEQUENCE:0
TRANSP:OPAQUE
END:VEVENT
END:VCALENDAR