BEGIN:VCALENDAR
VERSION:2.0
PRODID:-//jEvents 2.0 for Joomla//EN
CALSCALE:GREGORIAN
METHOD:PUBLISH
BEGIN:VTIMEZONE
TZID:Europe/Vienna
END:VTIMEZONE
BEGIN:VEVENT
UID:db1aa7f4d678fd89e63f7438e4b313e4
CATEGORIES:DEFAULT
SUMMARY:Neujahrsblitzturnier
DESCRIPTION;ENCODING=QUOTED-PRINTABLE:<div style="color: #000000; font-family: Verdana; font-size: 12px;">Unser t
 raditionelles <strong>Neujahrsblitzturnier im Mautwirtshaus</strong></div><
 div style="color: #000000; font-family: Verdana; font-size: 12px;">Bedenkze
 it: 5 min pro Partie. <br />Jeder Teilnehmer bringt wie gewohnt einen klein
 en Sachpreis mit.</div>
DTSTAMP:20260419T170544Z
DTSTART;TZID=Europe/Vienna:20240122T191500
DTEND;TZID=Europe/Vienna:20240122T220000
SEQUENCE:0
TRANSP:OPAQUE
END:VEVENT
END:VCALENDAR