BEGIN:VCALENDAR
VERSION:2.0
PRODID:-//jEvents 2.0 for Joomla//EN
CALSCALE:GREGORIAN
METHOD:PUBLISH
BEGIN:VTIMEZONE
TZID:Europe/Vienna
END:VTIMEZONE
BEGIN:VEVENT
UID:15147bf78f00f67a3385d342265a81b0
CATEGORIES:DEFAULT
SUMMARY:B Liga: tschaturanga - Mödling
DESCRIPTION;ENCODING=QUOTED-PRINTABLE:\n\nauswärts im Haus des Schachsports, 1020 Wien Spielmannplatz 1\n
DTSTAMP:20260419T171434Z
DTSTART;TZID=Europe/Vienna:20240120T150000
DTEND;TZID=Europe/Vienna:20240120T210000
SEQUENCE:0
TRANSP:OPAQUE
END:VEVENT
END:VCALENDAR