BEGIN:VCALENDAR
VERSION:2.0
PRODID:-//jEvents 2.0 for Joomla//EN
CALSCALE:GREGORIAN
METHOD:PUBLISH
BEGIN:VTIMEZONE
TZID:Europe/Vienna
END:VTIMEZONE
BEGIN:VEVENT
UID:94dc1baf881ef9867ec22e2aa15e012f
CATEGORIES:DEFAULT
SUMMARY:1.Klasse Süd: Mödling - Schmelz
DESCRIPTION;ENCODING=QUOTED-PRINTABLE:<p>Heimspiel im BG Mödling , Untere Bachgasse 8</p>
DTSTAMP:20260419T170545Z
DTSTART;TZID=Europe/Vienna:20240113T150000
DTEND;TZID=Europe/Vienna:20240113T210000
SEQUENCE:0
TRANSP:OPAQUE
END:VEVENT
END:VCALENDAR