BEGIN:VCALENDAR
VERSION:2.0
PRODID:-//jEvents 2.0 for Joomla//EN
CALSCALE:GREGORIAN
METHOD:PUBLISH
BEGIN:VTIMEZONE
TZID:Europe/Vienna
END:VTIMEZONE
BEGIN:VEVENT
UID:77bc9bb4c952c168c5cde5044f560b91
CATEGORIES:DEFAULT
SUMMARY:A Liga: Mödling - Arberia
DESCRIPTION;ENCODING=QUOTED-PRINTABLE:\n\nHeimspiel im BG Mödling , Untere Bachgasse 8\n
DTSTAMP:20260419T171440Z
DTSTART;TZID=Europe/Vienna:20240113T150000
DTEND;TZID=Europe/Vienna:20240113T210000
SEQUENCE:0
TRANSP:OPAQUE
END:VEVENT
END:VCALENDAR