BEGIN:VCALENDAR
VERSION:2.0
PRODID:-//jEvents 2.0 for Joomla//EN
CALSCALE:GREGORIAN
METHOD:PUBLISH
BEGIN:VTIMEZONE
TZID:Europe/Vienna
END:VTIMEZONE
BEGIN:VEVENT
UID:c2b5af230a6bea508097bbbcd940994e
CATEGORIES:DEFAULT
SUMMARY:Klubabend SV Mödling
DESCRIPTION;ENCODING=QUOTED-PRINTABLE:\n\nder wöchentliche Klubabend\n
DTSTAMP:20260419T211506Z
DTSTART;TZID=Europe/Vienna:20240108T190000
DTEND;TZID=Europe/Vienna:20240108T230000
SEQUENCE:0
RRULE:FREQ=WEEKLY;COUNT=100;INTERVAL=1;BYDAY=MO
EXDATE;TZID=Europe/Vienna:20251117T190000,20250106T190000,20240122T190000,20240115T190000
TRANSP:OPAQUE
END:VEVENT
END:VCALENDAR