BEGIN:VCALENDAR
VERSION:2.0
PRODID:-//jEvents 2.0 for Joomla//EN
CALSCALE:GREGORIAN
METHOD:PUBLISH
BEGIN:VTIMEZONE
TZID:Europe/Vienna
END:VTIMEZONE
BEGIN:VEVENT
UID:630ea4a39ef636756982777801860216
CATEGORIES:DEFAULT
SUMMARY:B Liga: Mödling - DAW
DESCRIPTION;ENCODING=QUOTED-PRINTABLE:<p>Heimspiel im BG Mödling Bachgasse</p>
DTSTAMP:20260419T170545Z
DTSTART;TZID=Europe/Vienna:20231125T150000
DTEND;TZID=Europe/Vienna:20231125T210000
SEQUENCE:0
TRANSP:OPAQUE
END:VEVENT
END:VCALENDAR