BEGIN:VCALENDAR
VERSION:2.0
PRODID:-//jEvents 2.0 for Joomla//EN
CALSCALE:GREGORIAN
METHOD:PUBLISH
BEGIN:VTIMEZONE
TZID:Europe/Vienna
END:VTIMEZONE
BEGIN:VEVENT
UID:cd8400c1f0648117eb2ff3b9ba9248c0
CATEGORIES:DEFAULT
SUMMARY:1. Klasse Floridsdorf - Mödling 
DESCRIPTION;ENCODING=QUOTED-PRINTABLE:<p>Haus des Schachsports</p><p>1020 Wien, Spielmann Platz 1</p>
DTSTAMP:20260419T170554Z
DTSTART;TZID=Europe/Vienna:20231118T150000
DTEND;TZID=Europe/Vienna:20231118T210000
SEQUENCE:0
TRANSP:OPAQUE
END:VEVENT
END:VCALENDAR