BEGIN:VCALENDAR
VERSION:2.0
PRODID:-//jEvents 2.0 for Joomla//EN
CALSCALE:GREGORIAN
METHOD:PUBLISH
BEGIN:VTIMEZONE
TZID:Europe/Vienna
END:VTIMEZONE
BEGIN:VEVENT
UID:9c5499ec76534b9d326f2aeee3ec8e96
CATEGORIES:DEFAULT
SUMMARY:B Liga Schmelz/Klosterneuburg - Mödling
DESCRIPTION;ENCODING=QUOTED-PRINTABLE:<p>auswärts im Haus des Schachsports</p><p>1020 Wien, Spielmann Platz 1</p>
DTSTAMP:20260419T190134Z
DTSTART;TZID=Europe/Vienna:20231111T150000
DTEND;TZID=Europe/Vienna:20231111T210000
SEQUENCE:0
TRANSP:OPAQUE
END:VEVENT
END:VCALENDAR