BEGIN:VCALENDAR
VERSION:2.0
PRODID:-//jEvents 2.0 for Joomla//EN
CALSCALE:GREGORIAN
METHOD:PUBLISH
BEGIN:VTIMEZONE
TZID:Europe/Vienna
END:VTIMEZONE
BEGIN:VEVENT
UID:eb7f0299008cf94eadd913dd27861f43
CATEGORIES:DEFAULT
SUMMARY:1. Klasse Mödling - Ottakring
DESCRIPTION;ENCODING=QUOTED-PRINTABLE:\n\nHeimspiel im BG Mödling Bachgasse\n
DTSTAMP:20260419T170424Z
DTSTART;TZID=Europe/Vienna:20231104T150000
DTEND;TZID=Europe/Vienna:20231104T210000
SEQUENCE:0
TRANSP:OPAQUE
END:VEVENT
END:VCALENDAR