BEGIN:VCALENDAR
VERSION:2.0
PRODID:-//jEvents 2.0 for Joomla//EN
CALSCALE:GREGORIAN
METHOD:PUBLISH
BEGIN:VTIMEZONE
TZID:Europe/Vienna
END:VTIMEZONE
BEGIN:VEVENT
UID:7836cc18232022fe208f6b56d00fbec7
CATEGORIES:DEFAULT
SUMMARY:A Liga Mödling - Hernals
DESCRIPTION;ENCODING=QUOTED-PRINTABLE:\n\nHeimspiel im BG Mödling Bachgasse\n
DTSTAMP:20260419T170457Z
DTSTART;TZID=Europe/Vienna:20231104T150000
DTEND;TZID=Europe/Vienna:20231104T210000
SEQUENCE:0
TRANSP:OPAQUE
END:VEVENT
END:VCALENDAR