BEGIN:VCALENDAR
VERSION:2.0
PRODID:-//jEvents 2.0 for Joomla//EN
CALSCALE:GREGORIAN
METHOD:PUBLISH
BEGIN:VTIMEZONE
TZID:Europe/Vienna
END:VTIMEZONE
BEGIN:VEVENT
UID:fa689654191035ab5c735a67b0a9244c
CATEGORIES:DEFAULT
SUMMARY:B Liga: Austria - Mödling
DESCRIPTION;ENCODING=QUOTED-PRINTABLE:WSV Haus des Schachsports, 2.Spielmann Platz 1
DTSTAMP:20260419T170428Z
DTSTART;TZID=Europe/Vienna:20231007T150000
DTEND;TZID=Europe/Vienna:20231007T210000
SEQUENCE:0
TRANSP:OPAQUE
END:VEVENT
END:VCALENDAR