BEGIN:VCALENDAR
VERSION:2.0
PRODID:-//jEvents 2.0 for Joomla//EN
CALSCALE:GREGORIAN
METHOD:PUBLISH
BEGIN:VTIMEZONE
TZID:Europe/Vienna
END:VTIMEZONE
BEGIN:VEVENT
UID:78008bf526be2c31161ee1e135f368c9
CATEGORIES:DEFAULT
SUMMARY:A Liga Mödling - Hietzing
DESCRIPTION;ENCODING=QUOTED-PRINTABLE:<p>im BG Mödling, Untere Bachgasse 8</p>
DTSTAMP:20260419T171757Z
DTSTART;TZID=Europe/Vienna:20230930T150000
DTEND;TZID=Europe/Vienna:20230930T210000
SEQUENCE:0
TRANSP:OPAQUE
END:VEVENT
END:VCALENDAR