BEGIN:VCALENDAR
VERSION:2.0
PRODID:-//jEvents 2.0 for Joomla//EN
CALSCALE:GREGORIAN
METHOD:PUBLISH
BEGIN:VTIMEZONE
TZID:Europe/Vienna
END:VTIMEZONE
BEGIN:VEVENT
UID:1f6b48422206ec12f004e576db9e47c1
CATEGORIES:DEFAULT
SUMMARY:Season Opening im BG Bachgasse
DESCRIPTION;ENCODING=QUOTED-PRINTABLE:<p>im BG Mödling, Bachgasse inkl Blitzturnier</p>
DTSTAMP:20260420T002316Z
DTSTART;TZID=Europe/Vienna:20230923T150000
SEQUENCE:0
TRANSP:OPAQUE
END:VEVENT
END:VCALENDAR