BEGIN:VCALENDAR
VERSION:2.0
PRODID:-//jEvents 2.0 for Joomla//EN
CALSCALE:GREGORIAN
METHOD:PUBLISH
BEGIN:VTIMEZONE
TZID:Europe/Vienna
END:VTIMEZONE
BEGIN:VEVENT
UID:2708508b4710d2dfa030ac2e2d131df8
CATEGORIES:DEFAULT
SUMMARY:Mödlinger Ferienspiel - Schach
DESCRIPTION;ENCODING=QUOTED-PRINTABLE:Ferienspiel Mödling: Programm (moedlingerferienspiel.at)Ferienspielbüro:   
     Sportvolksschule  Lerchengasse 35, Eingang über die Jakob Thoma-Straße\
 n
DTSTAMP:20260419T170428Z
DTSTART;TZID=Europe/Vienna:20230821T133000
DTEND;TZID=Europe/Vienna:20230821T150000
SEQUENCE:0
TRANSP:OPAQUE
END:VEVENT
END:VCALENDAR