BEGIN:VCALENDAR
VERSION:2.0
PRODID:-//jEvents 2.0 for Joomla//EN
CALSCALE:GREGORIAN
METHOD:PUBLISH
BEGIN:VTIMEZONE
TZID:Europe/Vienna
END:VTIMEZONE
BEGIN:VEVENT
UID:ce7f24983fc2326eeb190daf111940d5
CATEGORIES:DEFAULT
SUMMARY:Mödlinger Ferienspiel - Schach
DESCRIPTION;ENCODING=QUOTED-PRINTABLE:<p><a href="https://www.moedlingerferienspiel.at/2023/index.php?id=programm
 ">Ferienspiel Mödling: Programm (moedlingerferienspiel.at)</a></p><p><stron
 g>Ferienspielbüro: </strong><strong>      </strong></p><p style="color: #64
 6464; font-family: Lato, sans-serif; font-size: 14px;"><strong>Sportvolkssc
 hule  Lerchengasse 35, Eingang über die Jakob Thoma-Straße</strong></p><p> 
 </p><p> </p>
DTSTAMP:20260419T170547Z
DTSTART;TZID=Europe/Vienna:20230710T133000
DTEND;TZID=Europe/Vienna:20230710T150000
SEQUENCE:0
TRANSP:OPAQUE
END:VEVENT
END:VCALENDAR