BEGIN:VCALENDAR
VERSION:2.0
PRODID:-//jEvents 2.0 for Joomla//EN
CALSCALE:GREGORIAN
METHOD:PUBLISH
BEGIN:VTIMEZONE
TZID:Europe/Vienna
END:VTIMEZONE
BEGIN:VEVENT
UID:ba2f8621b3e46e4eb2421110d3cca247
CATEGORIES:DEFAULT
SUMMARY:B Liga Mödling - Hietzing
DESCRIPTION;ENCODING=QUOTED-PRINTABLE:<p>Heimspiel im BG Bachgasse</p>
DTSTAMP:20260419T170554Z
DTSTART;TZID=Europe/Vienna:20230325T150000
DTEND;TZID=Europe/Vienna:20230325T210000
SEQUENCE:0
TRANSP:OPAQUE
END:VEVENT
END:VCALENDAR