BEGIN:VCALENDAR
VERSION:2.0
PRODID:-//jEvents 2.0 for Joomla//EN
CALSCALE:GREGORIAN
METHOD:PUBLISH
BEGIN:VTIMEZONE
TZID:Europe/Vienna
END:VTIMEZONE
BEGIN:VEVENT
UID:4852460df6832a07b2ba9fddb14b65c0
CATEGORIES:DEFAULT
SUMMARY:A Liga: Klosterneuburg - Mödling
DESCRIPTION;ENCODING=QUOTED-PRINTABLE:<p>gemeinsame Schlußrunde der A Liga</p><p>im Haus des Schachsports, 1020 W
 ien, Spielmannplatz 1</p><p>(neben dem Happelstadion)</p>
DTSTAMP:20260419T170546Z
DTSTART;TZID=Europe/Vienna:20230318T150000
DTEND;TZID=Europe/Vienna:20230318T210000
SEQUENCE:0
TRANSP:OPAQUE
END:VEVENT
END:VCALENDAR