BEGIN:VCALENDAR
VERSION:2.0
PRODID:-//jEvents 2.0 for Joomla//EN
CALSCALE:GREGORIAN
METHOD:PUBLISH
BEGIN:VTIMEZONE
TZID:Europe/Vienna
END:VTIMEZONE
BEGIN:VEVENT
UID:8baf6f19936491d04b7de94dcf04e5f5
CATEGORIES:DEFAULT
SUMMARY:B Liga: Ottakring - Mödling
DESCRIPTION;ENCODING=QUOTED-PRINTABLE:<p>Club 217, 16. Ottakringerstr. 217</p>
DTSTAMP:20260419T173231Z
DTSTART;TZID=Europe/Vienna:20230311T150000
DTEND;TZID=Europe/Vienna:20230311T210000
SEQUENCE:0
TRANSP:OPAQUE
END:VEVENT
END:VCALENDAR