BEGIN:VCALENDAR
VERSION:2.0
PRODID:-//jEvents 2.0 for Joomla//EN
CALSCALE:GREGORIAN
METHOD:PUBLISH
BEGIN:VTIMEZONE
TZID:Europe/Vienna
END:VTIMEZONE
BEGIN:VEVENT
UID:a5809df69999e284ee97ac730c68507c
CATEGORIES:DEFAULT
SUMMARY:A Liga Mödling - Donaustadt
DESCRIPTION;ENCODING=QUOTED-PRINTABLE:\n\nHeimspiel im BG Mödling Bachgasse\n
DTSTAMP:20260419T170413Z
DTSTART;TZID=Europe/Vienna:20230304T150000
DTEND;TZID=Europe/Vienna:20230304T210000
SEQUENCE:0
TRANSP:OPAQUE
END:VEVENT
END:VCALENDAR