BEGIN:VCALENDAR
VERSION:2.0
PRODID:-//jEvents 2.0 for Joomla//EN
CALSCALE:GREGORIAN
METHOD:PUBLISH
BEGIN:VTIMEZONE
TZID:Europe/Vienna
END:VTIMEZONE
BEGIN:VEVENT
UID:438028634b1450b2f45086b84fff8887
CATEGORIES:DEFAULT
SUMMARY:B Liga: tschaturanga - Mödling
DESCRIPTION;ENCODING=QUOTED-PRINTABLE:\n\nWSV Haus des Schachsports, 2.Marathonweg 14\n
DTSTAMP:20260419T171435Z
DTSTART;TZID=Europe/Vienna:20230225T150000
DTEND;TZID=Europe/Vienna:20230225T210000
SEQUENCE:0
TRANSP:OPAQUE
END:VEVENT
END:VCALENDAR