BEGIN:VCALENDAR
VERSION:2.0
PRODID:-//jEvents 2.0 for Joomla//EN
CALSCALE:GREGORIAN
METHOD:PUBLISH
BEGIN:VTIMEZONE
TZID:Europe/Vienna
END:VTIMEZONE
BEGIN:VEVENT
UID:c75d90e95199cb60f4481028eea4fea8
CATEGORIES:DEFAULT
SUMMARY:1.Klasse Süd: Mödling - Währing
DESCRIPTION;ENCODING=QUOTED-PRINTABLE:\n\nHeimspiel im BG Mödling Bachgasse\n
DTSTAMP:20260419T190037Z
DTSTART;TZID=Europe/Vienna:20230218T150000
DTEND;TZID=Europe/Vienna:20230218T210000
SEQUENCE:0
TRANSP:OPAQUE
END:VEVENT
END:VCALENDAR