BEGIN:VCALENDAR
VERSION:2.0
PRODID:-//jEvents 2.0 for Joomla//EN
CALSCALE:GREGORIAN
METHOD:PUBLISH
BEGIN:VTIMEZONE
TZID:Europe/Vienna
END:VTIMEZONE
BEGIN:VEVENT
UID:04837d01c5470788ca0562eb19292522
CATEGORIES:DEFAULT
SUMMARY:A Liga: Mödling - Favoriten
DESCRIPTION;ENCODING=QUOTED-PRINTABLE:<p>Heimspiel im BG Mödling Bachgasse</p>
DTSTAMP:20260419T171905Z
DTSTART;TZID=Europe/Vienna:20230218T150000
DTEND;TZID=Europe/Vienna:20230218T210000
SEQUENCE:0
TRANSP:OPAQUE
END:VEVENT
END:VCALENDAR