BEGIN:VCALENDAR
VERSION:2.0
PRODID:-//jEvents 2.0 for Joomla//EN
CALSCALE:GREGORIAN
METHOD:PUBLISH
BEGIN:VTIMEZONE
TZID:Europe/Vienna
END:VTIMEZONE
BEGIN:VEVENT
UID:4e5ca6db4ed1e7cc628fa4f77329aea9
CATEGORIES:DEFAULT
SUMMARY:A Liga:  Austria - Mödling
DESCRIPTION;ENCODING=QUOTED-PRINTABLE:\n\nCafe Frey, 1040 Wien, Favoritenstrasse 44\n
DTSTAMP:20260419T170415Z
DTSTART;TZID=Europe/Vienna:20230204T150000
DTEND;TZID=Europe/Vienna:20230204T210000
SEQUENCE:0
TRANSP:OPAQUE
END:VEVENT
END:VCALENDAR