BEGIN:VCALENDAR
VERSION:2.0
PRODID:-//jEvents 2.0 for Joomla//EN
CALSCALE:GREGORIAN
METHOD:PUBLISH
BEGIN:VTIMEZONE
TZID:Europe/Vienna
END:VTIMEZONE
BEGIN:VEVENT
UID:b22bf424709755ee1f0e04d4cd71bb59
CATEGORIES:DEFAULT
SUMMARY:B Liga: Donau/Aljechin - Mödling
DESCRIPTION;ENCODING=QUOTED-PRINTABLE:<table style="border-collapse: collapse; width: 276pt;" border="0" width="3
 68" cellspacing="0" cellpadding="0"><tbody><tr style="height: 15.6pt;"><td 
 class="xl68" style="height: 15.6pt; width: 276pt;" width="368" height="21">
 WSV Haus des Schachsports, 2.Marathonweg 14</td></tr></tbody></table>
DTSTAMP:20260419T170554Z
DTSTART;TZID=Europe/Vienna:20230128T150000
DTEND;TZID=Europe/Vienna:20230128T210000
SEQUENCE:0
TRANSP:OPAQUE
END:VEVENT
END:VCALENDAR