BEGIN:VCALENDAR
VERSION:2.0
PRODID:-//jEvents 2.0 for Joomla//EN
CALSCALE:GREGORIAN
METHOD:PUBLISH
BEGIN:VTIMEZONE
TZID:Europe/Vienna
END:VTIMEZONE
BEGIN:VEVENT
UID:7a9478739643d29861d9b5e580003a5a
CATEGORIES:DEFAULT
SUMMARY:1.Klasse Süd: Mödling - Hietzing
DESCRIPTION;ENCODING=QUOTED-PRINTABLE:<table style="border-collapse: collapse; width: 276pt;" border="0" width="3
 68" cellspacing="0" cellpadding="0"><tbody><tr style="height: 15.6pt;"><td 
 class="xl68" style="height: 15.6pt; width: 276pt;" width="368" height="21">
 BG Mödling, Untere Bachgasse 8</td></tr></tbody></table>
DTSTAMP:20260419T170554Z
DTSTART;TZID=Europe/Vienna:20230121T150000
DTEND;TZID=Europe/Vienna:20230121T210000
SEQUENCE:0
TRANSP:OPAQUE
END:VEVENT
END:VCALENDAR