BEGIN:VCALENDAR
VERSION:2.0
PRODID:-//jEvents 2.0 for Joomla//EN
CALSCALE:GREGORIAN
METHOD:PUBLISH
BEGIN:VTIMEZONE
TZID:Europe/Vienna
END:VTIMEZONE
BEGIN:VEVENT
UID:ff908e1aac360631ed570cd9dac10cb6
CATEGORIES:DEFAULT
SUMMARY:A Liga: Mödling - Schmelz
DESCRIPTION;ENCODING=QUOTED-PRINTABLE:BG Mödling, Untere Bachgasse 8
DTSTAMP:20260419T171440Z
DTSTART;TZID=Europe/Vienna:20230121T150000
DTEND;TZID=Europe/Vienna:20230121T210000
SEQUENCE:0
TRANSP:OPAQUE
END:VEVENT
END:VCALENDAR