BEGIN:VCALENDAR
VERSION:2.0
PRODID:-//jEvents 2.0 for Joomla//EN
CALSCALE:GREGORIAN
METHOD:PUBLISH
BEGIN:VTIMEZONE
TZID:Europe/Vienna
END:VTIMEZONE
BEGIN:VEVENT
UID:18e614dff385a0dcc129e367e5692cc8
CATEGORIES:DEFAULT
SUMMARY:1.Klasse Süd: Auhof - Mödling
DESCRIPTION;ENCODING=QUOTED-PRINTABLE:<table style="border-collapse: collapse; width: 276pt;" border="0" width="3
 68" cellspacing="0" cellpadding="0"><tbody><tr style="height: 15.6pt;"><td 
 class="xl68" style="height: 15.6pt; width: 276pt;" width="368" height="21">
 Hotel Zeitgeist, 10.Sonnwendgasse 15</td></tr></tbody></table>
DTSTAMP:20260419T170544Z
DTSTART;TZID=Europe/Vienna:20230107T150000
DTEND;TZID=Europe/Vienna:20230107T210000
SEQUENCE:0
TRANSP:OPAQUE
END:VEVENT
END:VCALENDAR