BEGIN:VCALENDAR
VERSION:2.0
PRODID:-//jEvents 2.0 for Joomla//EN
CALSCALE:GREGORIAN
METHOD:PUBLISH
BEGIN:VTIMEZONE
TZID:Europe/Vienna
END:VTIMEZONE
BEGIN:VEVENT
UID:583f33f97d0201c02be6e1fa3f53060e
CATEGORIES:DEFAULT
SUMMARY:1.Klasse Süd: Mödling - Hernals
DESCRIPTION;ENCODING=QUOTED-PRINTABLE:<p>Heimspiel im BG Mödling, Untere Bachgasse 8</p>
DTSTAMP:20260419T170547Z
DTSTART;TZID=Europe/Vienna:20201017T150000
SEQUENCE:0
TRANSP:OPAQUE
END:VEVENT
END:VCALENDAR