BEGIN:VCALENDAR
VERSION:2.0
PRODID:-//jEvents 2.0 for Joomla//EN
CALSCALE:GREGORIAN
METHOD:PUBLISH
BEGIN:VTIMEZONE
TZID:Europe/Vienna
END:VTIMEZONE
BEGIN:VEVENT
UID:e21787bfd7881a98aac9f361e3203958
CATEGORIES:DEFAULT
SUMMARY:2.Klasse Nord:  Mödling - Ottakring
DESCRIPTION;ENCODING=QUOTED-PRINTABLE:\n\n1.Runde\n\n\nHeimspiel im BG Mödling, Untere Bachgasse 8\n
DTSTAMP:20260419T170456Z
DTSTART;TZID=Europe/Vienna:20200926T150000
SEQUENCE:0
TRANSP:OPAQUE
END:VEVENT
END:VCALENDAR