BEGIN:VCALENDAR
VERSION:2.0
PRODID:-//jEvents 2.0 for Joomla//EN
CALSCALE:GREGORIAN
METHOD:PUBLISH
BEGIN:VTIMEZONE
TZID:Europe/Vienna
END:VTIMEZONE
BEGIN:VEVENT
UID:39c76b011f2c32c8000cde8b58c2e497
CATEGORIES:DEFAULT
SUMMARY:Mödlinger Ferienspiel für Kinder von 6 - 15 J.
DESCRIPTION;ENCODING=QUOTED-PRINTABLE:\n\nim FERIENSPIELBÜRO \n\n\nSportvolksschule Harald Lowatschek, Eingang Ja
 kob Thoma-Straße\n
DTSTAMP:20260419T140135Z
DTSTART;TZID=Europe/Vienna:20200713T133000
DTEND;TZID=Europe/Vienna:20200713T150000
SEQUENCE:0
TRANSP:OPAQUE
END:VEVENT
END:VCALENDAR